BEGIN:VCALENDAR
VERSION:2.0
PRODID:-//United Asphalt Company - ECPv6.15.17//NONSGML v1.0//EN
CALSCALE:GREGORIAN
METHOD:PUBLISH
X-ORIGINAL-URL:https://unitedasphalt.com
X-WR-CALDESC:Events for United Asphalt Company
REFRESH-INTERVAL;VALUE=DURATION:PT1H
X-Robots-Tag:noindex
X-PUBLISHED-TTL:PT1H
BEGIN:VTIMEZONE
TZID:America/New_York
BEGIN:DAYLIGHT
TZOFFSETFROM:-0500
TZOFFSETTO:-0400
TZNAME:EDT
DTSTART:20240310T070000
END:DAYLIGHT
BEGIN:STANDARD
TZOFFSETFROM:-0400
TZOFFSETTO:-0500
TZNAME:EST
DTSTART:20241103T060000
END:STANDARD
BEGIN:DAYLIGHT
TZOFFSETFROM:-0500
TZOFFSETTO:-0400
TZNAME:EDT
DTSTART:20250309T070000
END:DAYLIGHT
BEGIN:STANDARD
TZOFFSETFROM:-0400
TZOFFSETTO:-0500
TZNAME:EST
DTSTART:20251102T060000
END:STANDARD
BEGIN:DAYLIGHT
TZOFFSETFROM:-0500
TZOFFSETTO:-0400
TZNAME:EDT
DTSTART:20260308T070000
END:DAYLIGHT
BEGIN:STANDARD
TZOFFSETFROM:-0400
TZOFFSETTO:-0500
TZNAME:EST
DTSTART:20261101T060000
END:STANDARD
BEGIN:DAYLIGHT
TZOFFSETFROM:-0500
TZOFFSETTO:-0400
TZNAME:EDT
DTSTART:20270314T070000
END:DAYLIGHT
BEGIN:STANDARD
TZOFFSETFROM:-0400
TZOFFSETTO:-0500
TZNAME:EST
DTSTART:20271107T060000
END:STANDARD
END:VTIMEZONE
BEGIN:VEVENT
DTSTART;TZID=America/New_York:20260218T100000
DTEND;TZID=America/New_York:20260218T130000
DTSTAMP:20260421T121006
CREATED:20260121T164932Z
LAST-MODIFIED:20260121T164932Z
UID:10000093-1771408800-1771419600@unitedasphalt.com
SUMMARY:Frontier Roofing Supply - Las Cruses\, New Mexico Demo Day - February 2026
DESCRIPTION:Join our Texas Territory Sales Manager\, Kit Williams at Frontier Roofing Supply’s Las Cruses\, New Mexico Branch for a Demo Day! \nWe’ll be focusing on the differences & benefits of the following:\n\nAcrylic Roof Coatings\nSilicone Roof Coatings\nUrethane Roof Coatings\n\nAs well as all things roof repair and restoration and the capabilities of our Del-Val\, Roof-Master\, Armour Proof Coatings and Tapered Insulation products. Plan to stop by!
URL:https://unitedasphalt.com/event/frontier-roofing-supply-las-cruses-new-mexico-demo-day-february-2026/
LOCATION:Frontier Roofing Supply – Las Cruses\, NM\, 909 S Valley Drive\, Las Cruses\, NM\, 88005\, United States
ATTACH;FMTTYPE=image/png:https://unitedasphalt.com/wp-content/uploads/2025/11/Frontier-Roofing-Supply-Distributor-Logo.png
GEO:32.2996863;-106.7893781
X-APPLE-STRUCTURED-LOCATION;VALUE=URI;X-ADDRESS=Frontier Roofing Supply – Las Cruses NM 909 S Valley Drive Las Cruses NM 88005 United States;X-APPLE-RADIUS=500;X-TITLE=909 S Valley Drive:geo:-106.7893781,32.2996863
END:VEVENT
BEGIN:VEVENT
DTSTART;TZID=America/New_York:20260319T170000
DTEND;TZID=America/New_York:20260319T210000
DTSTAMP:20260421T121006
CREATED:20260105T182215Z
LAST-MODIFIED:20260302T135624Z
UID:10000091-1773939600-1773954000@unitedasphalt.com
SUMMARY:Universal Supply's 43rd Annual Trade Show
DESCRIPTION:Note: This event is hosted by Universal Supply Company and is not a United Asphalt Company event.
URL:https://unitedasphalt.com/event/universal-supplys-43rd-annual-trade-show/
LOCATION:Harrah’s Resort Atlantic City\, 777 Harrah's Blvd.\, Atlantic City\, NJ\, 08401\, United States
ATTACH;FMTTYPE=image/png:https://unitedasphalt.com/wp-content/uploads/2023/09/Universal-Supply-Co-Horizontal-Distributor-Logo.png
GEO:39.3845487;-74.4296631
X-APPLE-STRUCTURED-LOCATION;VALUE=URI;X-ADDRESS=Harrah’s Resort Atlantic City 777 Harrah's Blvd. Atlantic City NJ 08401 United States;X-APPLE-RADIUS=500;X-TITLE=777 Harrah's Blvd.:geo:-74.4296631,39.3845487
END:VEVENT
BEGIN:VEVENT
DTSTART;TZID=America/New_York:20260415T100000
DTEND;TZID=America/New_York:20260415T120000
DTSTAMP:20260421T121006
CREATED:20260331T200919Z
LAST-MODIFIED:20260331T201042Z
UID:10000095-1776247200-1776254400@unitedasphalt.com
SUMMARY:SRS Building Products - Beltsville\, MD Demo Day - April 2026
DESCRIPTION:Join our Mid-Atlantic Regional Manager\, Dave Lorady\, our Technical Sales Director\, Scott Caprio\, along with our Representing Partners\, Roof Pro\, Inc at SRS Distribution’s Beltsville\, Maryland Branch for a Contractor Demo Day! \nWe’ll be sharing:\n\nHands on Demos of our Repair Products\nDifferences & Benefits of our Del-Val Roof Coatings\n\nPlan to stop by!
URL:https://unitedasphalt.com/event/srs-building-products-beltsville-md-demo-day-april-2026/
LOCATION:SRS Building Products – Beltsville\, MD\, 10511 Tucker Street\, Beltsville\, MD\, 20705\, United States
ATTACH;FMTTYPE=image/png:https://unitedasphalt.com/wp-content/uploads/2024/02/SRS-Distribution-Distributor-Logo-NEW.png
GEO:39.0249041;-76.9111109
X-APPLE-STRUCTURED-LOCATION;VALUE=URI;X-ADDRESS=SRS Building Products – Beltsville MD 10511 Tucker Street Beltsville MD 20705 United States;X-APPLE-RADIUS=500;X-TITLE=10511 Tucker Street:geo:-76.9111109,39.0249041
END:VEVENT
BEGIN:VEVENT
DTSTART;TZID=America/New_York:20260423T070000
DTEND;TZID=America/New_York:20260423T090000
DTSTAMP:20260421T121006
CREATED:20260414T195834Z
LAST-MODIFIED:20260414T195834Z
UID:10000096-1776927600-1776934800@unitedasphalt.com
SUMMARY:SPEC Building Materials Corp - Garland\, Texas Demo Day - April 2026
DESCRIPTION:Join our Texas Territory Sales Manager\, Kit Williams at SPEC Building Materials Corporation’s Garland\, Texas Branch for a Demo Day! \nWe’ll be focusing on differences & benefits of the following:\n\nAcrylic Roof Coatings\nSilicone Roof Coatings\nUrethane Roof Coatings\n\nPlan to stop by!
URL:https://unitedasphalt.com/event/spec-building-materials-corp-garland-texas-demo-day-april-2026/
LOCATION:SPEC Building Materials\, 3615 Miller Park Drive\, Garland\, 75042\, United States
ATTACH;FMTTYPE=image/png:https://unitedasphalt.com/wp-content/uploads/2025/10/SPEC-Building-Materials-Corporation-Distributor-Logo.png
GEO:32.9054546;-96.6853653
X-APPLE-STRUCTURED-LOCATION;VALUE=URI;X-ADDRESS=SPEC Building Materials 3615 Miller Park Drive Garland 75042 United States;X-APPLE-RADIUS=500;X-TITLE=3615 Miller Park Drive:geo:-96.6853653,32.9054546
END:VEVENT
BEGIN:VEVENT
DTSTART;TZID=America/New_York:20250918T110000
DTEND;TZID=America/New_York:20250918T150000
DTSTAMP:20260421T121006
CREATED:20260421T145929Z
LAST-MODIFIED:20260421T145929Z
UID:10000097-1758193200-1758207600@unitedasphalt.com
SUMMARY:ABC Supply Co - Demo Day - York\, PA - May 2026
DESCRIPTION:Join us at ABC Supply Co‘s York\, PA location Demo Day as we demonstrate some of our most popular roof repair and restoration products! Your local rep\, Dave Lorady\, will be onsite to demonstrate product capabilities and answer any questions that may come up.  \nHave a particular project your are considering coating? Come by and learn about what solutions may be a good fit for you! Be sure to register on this page to let us know to expect you!
URL:https://unitedasphalt.com/event/abc-supply-co-demo-day-york-pa-may-2026/
LOCATION:ABC Supply Co – York\, PA\, 2608 Keyway Drive\, York\, PA\, 17402\, United States
ATTACH;FMTTYPE=image/png:https://unitedasphalt.com/wp-content/uploads/2021/08/ABC-Supply-Co-Logo.png
GEO:39.9078692;-76.7018277
X-APPLE-STRUCTURED-LOCATION;VALUE=URI;X-ADDRESS=ABC Supply Co – York PA 2608 Keyway Drive York PA 17402 United States;X-APPLE-RADIUS=500;X-TITLE=2608 Keyway Drive:geo:-76.7018277,39.9078692
END:VEVENT
END:VCALENDAR