BEGIN:VCALENDAR
VERSION:2.0
PRODID:-//United Asphalt Company - ECPv6.15.17//NONSGML v1.0//EN
CALSCALE:GREGORIAN
METHOD:PUBLISH
X-WR-CALNAME:United Asphalt Company
X-ORIGINAL-URL:https://unitedasphalt.com
X-WR-CALDESC:Events for United Asphalt Company
REFRESH-INTERVAL;VALUE=DURATION:PT1H
X-Robots-Tag:noindex
X-PUBLISHED-TTL:PT1H
BEGIN:VTIMEZONE
TZID:America/New_York
BEGIN:DAYLIGHT
TZOFFSETFROM:-0500
TZOFFSETTO:-0400
TZNAME:EDT
DTSTART:20230312T070000
END:DAYLIGHT
BEGIN:STANDARD
TZOFFSETFROM:-0400
TZOFFSETTO:-0500
TZNAME:EST
DTSTART:20231105T060000
END:STANDARD
BEGIN:DAYLIGHT
TZOFFSETFROM:-0500
TZOFFSETTO:-0400
TZNAME:EDT
DTSTART:20240310T070000
END:DAYLIGHT
BEGIN:STANDARD
TZOFFSETFROM:-0400
TZOFFSETTO:-0500
TZNAME:EST
DTSTART:20241103T060000
END:STANDARD
BEGIN:DAYLIGHT
TZOFFSETFROM:-0500
TZOFFSETTO:-0400
TZNAME:EDT
DTSTART:20250309T070000
END:DAYLIGHT
BEGIN:STANDARD
TZOFFSETFROM:-0400
TZOFFSETTO:-0500
TZNAME:EST
DTSTART:20251102T060000
END:STANDARD
END:VTIMEZONE
BEGIN:VEVENT
DTSTART;TZID=America/New_York:20240321T100000
DTEND;TZID=America/New_York:20240321T120000
DTSTAMP:20260421T212202
CREATED:20240221T152323Z
LAST-MODIFIED:20240314T155133Z
UID:10000041-1711015200-1711022400@unitedasphalt.com
SUMMARY:J&L Building Materials' New Castle DE March 2024 Demo Day
DESCRIPTION:Join us at J&L Building Materials’ New Castle\, DE location as we demonstrate some of our most popular roof repair and restoration products! Your local rep\, Dave Lorady\, will be onsite to demonstrate product capabilities and answer any questions that may come up. Have a particular project your are considering coating? Come by and learn about what solutions may be a good fit for you!
URL:https://unitedasphalt.com/event/jl-building-materials-new-castle-de-march-2024-demo-day/
LOCATION:J&L Building Materials New Castle DE\, 59 Lukens Drive\, New Castle\, DE\, 19720\, United States
ATTACH;FMTTYPE=image/png:https://unitedasphalt.com/wp-content/uploads/2023/08/JL-Building-Materials-Inc-Distributor-Logo.png
GEO:39.6866738;-75.5507782
X-APPLE-STRUCTURED-LOCATION;VALUE=URI;X-ADDRESS=J&L Building Materials New Castle DE 59 Lukens Drive New Castle DE 19720 United States;X-APPLE-RADIUS=500;X-TITLE=59 Lukens Drive:geo:-75.5507782,39.6866738
END:VEVENT
BEGIN:VEVENT
DTSTART;TZID=America/New_York:20240402T100000
DTEND;TZID=America/New_York:20240402T120000
DTSTAMP:20260421T212202
CREATED:20240305T135213Z
LAST-MODIFIED:20240314T154922Z
UID:10000045-1712052000-1712059200@unitedasphalt.com
SUMMARY:Kohl Building Products Selinsgrove\, PA April 2024 Demo Day
DESCRIPTION:Join us at Kohl Building Products’s Selinsgrove location as we demonstrate some of our most popular roof repair and restoration products! Your local rep\, Dave Lorady\, will be onsite\, (with lunch!) to demonstrate product capabilities and answer any questions that may come up. Have a particular project your are considering coating? Come by and learn about what solutions may be a good fit for you!
URL:https://unitedasphalt.com/event/kohl-building-products-selinsgrove-pa-april-2024-demo-day/
LOCATION:Kohl Building Products Selinsgrove\, 49 H & S Drive\, Selinsgrove\, PA\, 17870\, United States
ATTACH;FMTTYPE=image/png:https://unitedasphalt.com/wp-content/uploads/2023/08/Kohl-Building-Products-Distributor-Logo.png
GEO:40.80647;-76.9114559
X-APPLE-STRUCTURED-LOCATION;VALUE=URI;X-ADDRESS=Kohl Building Products Selinsgrove 49 H & S Drive Selinsgrove PA 17870 United States;X-APPLE-RADIUS=500;X-TITLE=49 H & S Drive:geo:-76.9114559,40.80647
END:VEVENT
BEGIN:VEVENT
DTSTART;TZID=America/New_York:20240405T110000
DTEND;TZID=America/New_York:20240405T130000
DTSTAMP:20260421T212202
CREATED:20240318T133458Z
LAST-MODIFIED:20240329T163953Z
UID:10000046-1712314800-1712322000@unitedasphalt.com
SUMMARY:Marvic Supply's Whitehall PA April 2024 Demo Day
DESCRIPTION:Join us at Marvic Supply’s Whitehall\, PA branch for a Demo Day! We’ll have hands-on coating and repair product demos for contractors! Our Technical Sales Director\, Scott Caprio will be onsite to demonstrate product capabilities and answer any questions that may come up. Have a particular project your are considering coating? Come by and learn about what solutions may be a good fit for you!
URL:https://unitedasphalt.com/event/marvic-supplys-whitehall-pa-april-2024-demo-day/
LOCATION:Marvic Supply Whitehall PA\, 3325 7th Street\, Whitehall\, PA\, 18052\, United States
ATTACH;FMTTYPE=image/png:https://unitedasphalt.com/wp-content/uploads/2024/03/Marvic-Supply-Distributor-Logo.png
GEO:40.6514726;-75.4956095
X-APPLE-STRUCTURED-LOCATION;VALUE=URI;X-ADDRESS=Marvic Supply Whitehall PA 3325 7th Street Whitehall PA 18052 United States;X-APPLE-RADIUS=500;X-TITLE=3325 7th Street:geo:-75.4956095,40.6514726
END:VEVENT
END:VCALENDAR