BEGIN:VCALENDAR
VERSION:2.0
PRODID:-//United Asphalt Company - ECPv6.15.17//NONSGML v1.0//EN
CALSCALE:GREGORIAN
METHOD:PUBLISH
X-WR-CALNAME:United Asphalt Company
X-ORIGINAL-URL:https://unitedasphalt.com
X-WR-CALDESC:Events for United Asphalt Company
REFRESH-INTERVAL;VALUE=DURATION:PT1H
X-Robots-Tag:noindex
X-PUBLISHED-TTL:PT1H
BEGIN:VTIMEZONE
TZID:America/New_York
BEGIN:DAYLIGHT
TZOFFSETFROM:-0500
TZOFFSETTO:-0400
TZNAME:EDT
DTSTART:20230312T070000
END:DAYLIGHT
BEGIN:STANDARD
TZOFFSETFROM:-0400
TZOFFSETTO:-0500
TZNAME:EST
DTSTART:20231105T060000
END:STANDARD
BEGIN:DAYLIGHT
TZOFFSETFROM:-0500
TZOFFSETTO:-0400
TZNAME:EDT
DTSTART:20240310T070000
END:DAYLIGHT
BEGIN:STANDARD
TZOFFSETFROM:-0400
TZOFFSETTO:-0500
TZNAME:EST
DTSTART:20241103T060000
END:STANDARD
BEGIN:DAYLIGHT
TZOFFSETFROM:-0500
TZOFFSETTO:-0400
TZNAME:EDT
DTSTART:20250309T070000
END:DAYLIGHT
BEGIN:STANDARD
TZOFFSETFROM:-0400
TZOFFSETTO:-0500
TZNAME:EST
DTSTART:20251102T060000
END:STANDARD
END:VTIMEZONE
BEGIN:VEVENT
DTSTART;TZID=America/New_York:20240530T100000
DTEND;TZID=America/New_York:20240530T120000
DTSTAMP:20260421T212238
CREATED:20240318T143649Z
LAST-MODIFIED:20240318T143649Z
UID:10000048-1717063200-1717070400@unitedasphalt.com
SUMMARY:ABC Supply Co York PA Demo Day May 2024
DESCRIPTION:Join us at ABC Supply Co’s York\, PA location as we demonstrate some of our most popular roof repair and restoration products! Your local rep\, Dave Lorady\, will be onsite to demonstrate product capabilities and answer any questions that may come up. Have a particular project your are considering coating? Come by and learn about what solutions may be a good fit for you! Be sure to register on this page to let us know to expect you!
URL:https://unitedasphalt.com/event/abc-supply-co-demo-day-may-2024-york-pa/
LOCATION:ABC Supply Co – York\, PA\, 2608 Keyway Drive\, York\, PA\, 17402\, United States
ATTACH;FMTTYPE=image/png:https://unitedasphalt.com/wp-content/uploads/2021/08/ABC-Supply-Co-Logo.png
GEO:39.9078692;-76.7018277
X-APPLE-STRUCTURED-LOCATION;VALUE=URI;X-ADDRESS=ABC Supply Co – York PA 2608 Keyway Drive York PA 17402 United States;X-APPLE-RADIUS=500;X-TITLE=2608 Keyway Drive:geo:-76.7018277,39.9078692
END:VEVENT
BEGIN:VEVENT
DTSTART;TZID=America/New_York:20240531T080000
DTEND;TZID=America/New_York:20240531T103000
DTSTAMP:20260421T212238
CREATED:20240524T150653Z
LAST-MODIFIED:20240524T154831Z
UID:10000055-1717142400-1717151400@unitedasphalt.com
SUMMARY:Eastern Michigan Distributors - Southfield
DESCRIPTION:Come by\, grab a donut and coffee and join us for a Demo Day at Eastern Michigan Distributors‘ Southfield\, MI location as we demonstrate some of our most popular roof repair and restoration products! Your local rep\, Ed Sueta\, will be onsite to demonstrate product capabilities and answer any questions that may come up. Have a particular project your are considering coating? Come by and learn about what solutions may be a good fit for you!
URL:https://unitedasphalt.com/event/eastern-michigan-distributors-demo-day-june-2024-southfield/
LOCATION:Eastern Michigan Distributors Southfield\, MI\, 19240 W. Eight Mile Road\, Southfield\, MI\, 48075\, United States
ATTACH;FMTTYPE=image/png:https://unitedasphalt.com/wp-content/uploads/2023/09/Eastern-Michigan-Distributors-Distributor-Logo.png
GEO:42.4421101;-83.3216648
X-APPLE-STRUCTURED-LOCATION;VALUE=URI;X-ADDRESS=Eastern Michigan Distributors Southfield MI 19240 W. Eight Mile Road Southfield MI 48075 United States;X-APPLE-RADIUS=500;X-TITLE=19240 W. Eight Mile Road:geo:-83.3216648,42.4421101
END:VEVENT
BEGIN:VEVENT
DTSTART;TZID=America/New_York:20240607T080000
DTEND;TZID=America/New_York:20240607T103000
DTSTAMP:20260421T212238
CREATED:20240524T154836Z
LAST-MODIFIED:20240524T155123Z
UID:10000056-1717747200-1717756200@unitedasphalt.com
SUMMARY:Spartan Building Supplies - Warren
DESCRIPTION:Come by\, grab a donut and coffee and join us for a Demo Day at Spartan Building Supplies\, Inc.‘s Warren\, MI location as we demonstrate some of our most popular roof repair and restoration products! Your local rep\, Ed Sueta\, will be onsite to demonstrate product capabilities and answer any questions that may come up. Have a particular project your are considering coating? Come by and learn about what solutions may be a good fit for you!
URL:https://unitedasphalt.com/event/spartan-building-supplies-demo-day-june-2024-warren/
LOCATION:Spartan Building Products – Warren\, Schoenherr Road\, Warren\, MI\, 48089\, United States
GEO:42.4553848;-82.9855612
X-APPLE-STRUCTURED-LOCATION;VALUE=URI;X-ADDRESS=Spartan Building Products – Warren Schoenherr Road Warren MI 48089 United States;X-APPLE-RADIUS=500;X-TITLE=Schoenherr Road:geo:-82.9855612,42.4553848
END:VEVENT
BEGIN:VEVENT
DTSTART;TZID=America/New_York:20240619T080000
DTEND;TZID=America/New_York:20240619T120000
DTSTAMP:20260421T212238
CREATED:20240523T154924Z
LAST-MODIFIED:20240618T130446Z
UID:10000054-1718784000-1718798400@unitedasphalt.com
SUMMARY:Armour Proof Coatings Academy – Conshohocken
DESCRIPTION:Some Topics We Will Discuss:\n\nArmour Proof Coatings Product Catalog\nWhat Types of Roofs Can Be Restored\nSigns of Trouble on A Roof\nChoosing A System\nHow to Apply A Complete System\nCoverage Rates\nBenefits of Becoming An Approved Applicator
URL:https://unitedasphalt.com/event/armour-proof-coatings-june-2024-conshohocken-training/
LOCATION:Plymouth Fire Company\, 1323 Colwell Lane\, Conshohocken\, PA\, 19428\, United States
CATEGORIES:Armour Proof Coatings Training Event
ATTACH;FMTTYPE=image/png:https://unitedasphalt.com/wp-content/uploads/2024/05/Armour-Proof-Coatings-APC-Logo-2024.png
GEO:40.0897119;-75.3023309
X-APPLE-STRUCTURED-LOCATION;VALUE=URI;X-ADDRESS=Plymouth Fire Company 1323 Colwell Lane Conshohocken PA 19428 United States;X-APPLE-RADIUS=500;X-TITLE=1323 Colwell Lane:geo:-75.3023309,40.0897119
END:VEVENT
BEGIN:VEVENT
DTSTART;TZID=America/New_York:20240620T150000
DTEND;TZID=America/New_York:20240620T180000
DTSTAMP:20260421T212238
CREATED:20240523T154415Z
LAST-MODIFIED:20240523T154415Z
UID:10000053-1718895600-1718906400@unitedasphalt.com
SUMMARY:ABC Supply Co Bethlehem Trade Show June 2024
DESCRIPTION:Join us at ABC Supply Co’s Bethlehem\, PA location Trade Show as we demonstrate some of our most popular roof repair and restoration products! Your local rep\, Dave Lorady\, will be onsite to demonstrate product capabilities and answer any questions that may come up. Have a particular project your are considering coating? Come by and learn about what solutions may be a good fit for you! Be sure to register on this page to let us know to expect you!
URL:https://unitedasphalt.com/event/abc-supply-co-bethlehem-pa-trade-show-june-2024/
LOCATION:ABC Supply Co – Bethlehem\, PA\, Avenue A\, Bethlehem\, PA\, 18017\, United States
ATTACH;FMTTYPE=image/png:https://unitedasphalt.com/wp-content/uploads/2021/08/ABC-Supply-Co-Logo.png
GEO:40.6492287;-75.4243958
X-APPLE-STRUCTURED-LOCATION;VALUE=URI;X-ADDRESS=ABC Supply Co – Bethlehem PA Avenue A Bethlehem PA 18017 United States;X-APPLE-RADIUS=500;X-TITLE=Avenue A:geo:-75.4243958,40.6492287
END:VEVENT
BEGIN:VEVENT
DTSTART;TZID=America/New_York:20240813T080000
DTEND;TZID=America/New_York:20240813T110000
DTSTAMP:20260421T212238
CREATED:20240723T185843Z
LAST-MODIFIED:20240723T194244Z
UID:10000057-1723536000-1723546800@unitedasphalt.com
SUMMARY:Resource Your Roofing Crew at Universal Supply Cape May
DESCRIPTION:Join us at Universal Supply‘s Cape May Court House location to take Your Roofing Business to the Next Level! Avoid Downtimes\, Layoffs & Lulls with Recession Proof Repairs and Maintenance Plans and Learn When A Customer’s Roof Might Be the Perfect Candidate for a Cost Saving Roof Restoration with a Liquid Membrane Roof Coating.  \nResource your roofing crew and learn about your best options\, directly from the manufacturer’s reps! \nSome Topics We Will Discuss:\n\nDel-Val Roof Repair & Maintenance Product Catalog\nHow to Repair Common Commercial Roof Problems\nSigns of Trouble on A Roof\nWhat Types of Roofs Can Be Restored\nChoosing A Roof Coating\nHow to Apply A Roof Coating\nCoverage Rates
URL:https://unitedasphalt.com/event/resource-your-roofing-crew-universal-supply-cape-may-august-2024/
LOCATION:Universal Supply Cape May\, U.S. 9\, Middle Township\, New Jersey\, 08210\, United States
CATEGORIES:Resource Your Roofing Crew
ATTACH;FMTTYPE=image/png:https://unitedasphalt.com/wp-content/uploads/2023/09/Universal-Supply-Co-Horizontal-Distributor-Logo.png
GEO:39.058765;-74.8387877
X-APPLE-STRUCTURED-LOCATION;VALUE=URI;X-ADDRESS=Universal Supply Cape May U.S. 9 Middle Township New Jersey 08210 United States;X-APPLE-RADIUS=500;X-TITLE=U.S. 9:geo:-74.8387877,39.058765
END:VEVENT
BEGIN:VEVENT
DTSTART;TZID=America/New_York:20240827T080000
DTEND;TZID=America/New_York:20240827T110000
DTSTAMP:20260421T212238
CREATED:20240723T200518Z
LAST-MODIFIED:20240723T200518Z
UID:10000058-1724745600-1724756400@unitedasphalt.com
SUMMARY:Resource Your Roofing Crew at Universal Supply Pleasantville
DESCRIPTION:Join us at Universal Supply‘s Pleasantville location to take Your Roofing Business to the Next Level! Avoid Downtimes\, Layoffs & Lulls with Recession Proof Repairs and Maintenance Plans and Learn When A Customer’s Roof Might Be the Perfect Candidate for a Cost Saving Roof Restoration with a Liquid Membrane Roof Coating.  \nResource your roofing crew and learn about your best options\, directly from the manufacturer’s reps! \nSome Topics We Will Discuss:\n\nDel-Val Roof Repair & Maintenance Product Catalog\nHow to Repair Common Commercial Roof Problems\nSigns of Trouble on A Roof\nWhat Types of Roofs Can Be Restored\nChoosing A Roof Coating\nHow to Apply A Roof Coating\nCoverage Rates
URL:https://unitedasphalt.com/event/resource-your-roofing-crew-at-universal-supply-pleasantville-august/
LOCATION:Universal Supply Pleasantville\, Doughty Road\, Pleasantville\, New Jersey\, 08232\, United States
CATEGORIES:Resource Your Roofing Crew
ATTACH;FMTTYPE=image/png:https://unitedasphalt.com/wp-content/uploads/2023/09/Universal-Supply-Co-Horizontal-Distributor-Logo.png
GEO:39.3957642;-74.5357779
X-APPLE-STRUCTURED-LOCATION;VALUE=URI;X-ADDRESS=Universal Supply Pleasantville Doughty Road Pleasantville New Jersey 08232 United States;X-APPLE-RADIUS=500;X-TITLE=Doughty Road:geo:-74.5357779,39.3957642
END:VEVENT
BEGIN:VEVENT
DTSTART;TZID=America/New_York:20240910T080000
DTEND;TZID=America/New_York:20240910T103000
DTSTAMP:20260421T212238
CREATED:20240724T144006Z
LAST-MODIFIED:20240724T145257Z
UID:10000060-1725955200-1725964200@unitedasphalt.com
SUMMARY:Armour Proof Coatings Academy Bensalem Morning Session
DESCRIPTION:Join us at our Armour Proof Coatings Academy Bensalem Morning Session for an educational presentation on our broad line of Liquid Membrane Roof Coatings. Learn how you can incorporate Armour Proof Coating Systems into your roofing business  service offerings! \nSome Topics We Will Discuss:\n\nArmour Proof Coatings Product Catalog\nWhat Types of Roofs Can Be Restored\nSigns of Trouble on A Roof\nChoosing A System\nHow to Apply A Complete System\nCoverage Rates\nBenefits of Becoming An Approved Applicator
URL:https://unitedasphalt.com/event/armour-proof-coatings-academy-bensalem-am-september-2024/
LOCATION:Courtyard Philadelphia Bensalem\, Tillman Drive\, Bensalem\, Pennsylvania\, 19020\, United States
CATEGORIES:Armour Proof Coatings Training Event
ATTACH;FMTTYPE=image/png:https://unitedasphalt.com/wp-content/uploads/2024/05/Armour-Proof-Coatings-APC-Logo-2024.png
GEO:40.1152499;-74.962308
X-APPLE-STRUCTURED-LOCATION;VALUE=URI;X-ADDRESS=Courtyard Philadelphia Bensalem Tillman Drive Bensalem Pennsylvania 19020 United States;X-APPLE-RADIUS=500;X-TITLE=Tillman Drive:geo:-74.962308,40.1152499
END:VEVENT
BEGIN:VEVENT
DTSTART;TZID=America/New_York:20240910T123000
DTEND;TZID=America/New_York:20240910T143000
DTSTAMP:20260421T212238
CREATED:20240724T144404Z
LAST-MODIFIED:20240724T145248Z
UID:10000061-1725971400-1725978600@unitedasphalt.com
SUMMARY:Armour Proof Coatings Academy Bensalem Afternoon Session
DESCRIPTION:Join us at our Armour Proof Coatings Academy Bensalem Afternoon Session for an educational presentation on our broad line of Liquid Membrane Roof Coatings. Learn how you can incorporate Armour Proof Coating Systems into your roofing business  service offerings! \nSome Topics We Will Discuss:\n\nArmour Proof Coatings Product Catalog\nWhat Types of Roofs Can Be Restored\nSigns of Trouble on A Roof\nChoosing A System\nHow to Apply A Complete System\nCoverage Rates\nBenefits of Becoming An Approved Applicator
URL:https://unitedasphalt.com/event/armour-proof-coatings-academy-bensalem-pm-september-2024/
LOCATION:Courtyard Philadelphia Bensalem\, Tillman Drive\, Bensalem\, Pennsylvania\, 19020\, United States
CATEGORIES:Armour Proof Coatings Training Event
ATTACH;FMTTYPE=image/png:https://unitedasphalt.com/wp-content/uploads/2024/05/Armour-Proof-Coatings-APC-Logo-2024.png
GEO:40.1152499;-74.962308
X-APPLE-STRUCTURED-LOCATION;VALUE=URI;X-ADDRESS=Courtyard Philadelphia Bensalem Tillman Drive Bensalem Pennsylvania 19020 United States;X-APPLE-RADIUS=500;X-TITLE=Tillman Drive:geo:-74.962308,40.1152499
END:VEVENT
BEGIN:VEVENT
DTSTART;TZID=America/New_York:20240918T080000
DTEND;TZID=America/New_York:20240918T110000
DTSTAMP:20260421T212238
CREATED:20240723T200812Z
LAST-MODIFIED:20240723T200812Z
UID:10000059-1726646400-1726657200@unitedasphalt.com
SUMMARY:Resource Your Roofing Crew at Universal Supply Gloucester City
DESCRIPTION:Join us at Universal Supply‘s Gloucester City location to take Your Roofing Business to the Next Level! Avoid Downtimes\, Layoffs & Lulls with Recession Proof Repairs and Maintenance Plans and Learn When A Customer’s Roof Might Be the Perfect Candidate for a Cost Saving Roof Restoration with a Liquid Membrane Roof Coating.  \nResource your roofing crew and learn about your best options\, directly from the manufacturer’s reps! \nSome Topics We Will Discuss:\n\nDel-Val Roof Repair & Maintenance Product Catalog\nHow to Repair Common Commercial Roof Problems\nSigns of Trouble on A Roof\nWhat Types of Roofs Can Be Restored\nChoosing A Roof Coating\nHow to Apply A Roof Coating\nCoverage Rates
URL:https://unitedasphalt.com/event/resource-your-roofing-crew-at-universal-supply-gloucester-september-2024/
LOCATION:Universal Supply Gloucester City\, Crescent Boulevard\, Gloucester City\, New Jersey\, 08030\, United States
CATEGORIES:Resource Your Roofing Crew
ATTACH;FMTTYPE=image/png:https://unitedasphalt.com/wp-content/uploads/2023/09/Universal-Supply-Co-Horizontal-Distributor-Logo.png
GEO:39.8829597;-75.1106112
X-APPLE-STRUCTURED-LOCATION;VALUE=URI;X-ADDRESS=Universal Supply Gloucester City Crescent Boulevard Gloucester City New Jersey 08030 United States;X-APPLE-RADIUS=500;X-TITLE=Crescent Boulevard:geo:-75.1106112,39.8829597
END:VEVENT
BEGIN:VEVENT
DTSTART;TZID=America/New_York:20240920T110000
DTEND;TZID=America/New_York:20240920T130000
DTSTAMP:20260421T212238
CREATED:20240813T194109Z
LAST-MODIFIED:20240813T194109Z
UID:10000062-1726830000-1726837200@unitedasphalt.com
SUMMARY:Kohl Building Products Stroudsburg\, PA September 2024 Lunch & Learn
DESCRIPTION:Join us at Kohl Building Products’s Stroudsburg location as we demonstrate some of our most popular roof repair and restoration products! Your local rep\, Dave Lorady\, will be onsite\, (with lunch!) to demonstrate product capabilities and answer any questions that may come up. Have a particular project your are considering coating? Come by and learn about what solutions may be a good fit for you!
URL:https://unitedasphalt.com/event/kohl-building-products-stroudsburg-pa-september-2024-lunch-and-learn/
LOCATION:Kohl Building Products Stroudsburg\, 101 Gypsum Road\, Stroudsburg\, 18360\, United States
ATTACH;FMTTYPE=image/png:https://unitedasphalt.com/wp-content/uploads/2023/08/Kohl-Building-Products-Distributor-Logo.png
GEO:40.9498463;-75.2935667
X-APPLE-STRUCTURED-LOCATION;VALUE=URI;X-ADDRESS=Kohl Building Products Stroudsburg 101 Gypsum Road Stroudsburg 18360 United States;X-APPLE-RADIUS=500;X-TITLE=101 Gypsum Road:geo:-75.2935667,40.9498463
END:VEVENT
BEGIN:VEVENT
DTSTART;TZID=America/New_York:20240924T080000
DTEND;TZID=America/New_York:20240924T110000
DTSTAMP:20260421T212238
CREATED:20240820T142532Z
LAST-MODIFIED:20240820T142532Z
UID:10000063-1727164800-1727175600@unitedasphalt.com
SUMMARY:Resource Your Roofing Crew at Universal Supply Vineland
DESCRIPTION:Join us at Universal Supply‘s Vineland location to take Your Roofing Business to the Next Level! Avoid Downtimes\, Layoffs & Lulls with Recession Proof Repairs and Maintenance Plans and Learn When A Customer’s Roof Might Be the Perfect Candidate for a Cost Saving Roof Restoration with a Liquid Membrane Roof Coating.  \nResource your roofing crew and learn about your best options\, directly from the manufacturer’s reps! \nSome Topics We Will Discuss:\n\nDel-Val Roof Repair & Maintenance Product Catalog\nHow to Repair Common Commercial Roof Problems\nSigns of Trouble on A Roof\nWhat Types of Roofs Can Be Restored\nChoosing A Roof Coating\nHow to Apply A Roof Coating\nCoverage Rates
URL:https://unitedasphalt.com/event/resource-your-roofing-crew-at-universal-supply-vineland-september-2024/
LOCATION:Universal Supply Vineland\, South Delsea Drive\, Vineland\, New Jersey\, 08360\, United States
CATEGORIES:Resource Your Roofing Crew
ATTACH;FMTTYPE=image/png:https://unitedasphalt.com/wp-content/uploads/2023/09/Universal-Supply-Co-Horizontal-Distributor-Logo.png
GEO:39.4577884;-75.0426187
X-APPLE-STRUCTURED-LOCATION;VALUE=URI;X-ADDRESS=Universal Supply Vineland South Delsea Drive Vineland New Jersey 08360 United States;X-APPLE-RADIUS=500;X-TITLE=South Delsea Drive:geo:-75.0426187,39.4577884
END:VEVENT
BEGIN:VEVENT
DTSTART;TZID=America/New_York:20241011T070000
DTEND;TZID=America/New_York:20241011T100000
DTSTAMP:20260421T212238
CREATED:20241001T154123Z
LAST-MODIFIED:20241010T160718Z
UID:10000064-1728630000-1728640800@unitedasphalt.com
SUMMARY:NCBP Bensalem Demo Day October 2024
DESCRIPTION:Join us at New Castle Building Product’s Bensalem location as we demonstrate some of our most popular roof repair and restoration products! Your local rep\, Scott Caprio\, will be onsite to demonstrate product capabilities and answer any questions that may come up. Have a particular project your are considering coating? Come by and learn about what solutions may be a good fit for you! Be sure to register on this page to let us know to expect you!
URL:https://unitedasphalt.com/event/ncbp-bensalem-demo-day-october-2024/
LOCATION:New Castle Building Products Bensalem\, 2525 State Road\, Bensalem\, PA\, 19020\, United States
ATTACH;FMTTYPE=image/png:https://unitedasphalt.com/wp-content/uploads/2021/08/New-Castle-Building-Products-Logo.png
GEO:40.0715552;-74.9377742
X-APPLE-STRUCTURED-LOCATION;VALUE=URI;X-ADDRESS=New Castle Building Products Bensalem 2525 State Road Bensalem PA 19020 United States;X-APPLE-RADIUS=500;X-TITLE=2525 State Road:geo:-74.9377742,40.0715552
END:VEVENT
END:VCALENDAR