BEGIN:VCALENDAR
VERSION:2.0
PRODID:-//United Asphalt Company - ECPv6.15.17//NONSGML v1.0//EN
CALSCALE:GREGORIAN
METHOD:PUBLISH
X-ORIGINAL-URL:https://unitedasphalt.com
X-WR-CALDESC:Events for United Asphalt Company
REFRESH-INTERVAL;VALUE=DURATION:PT1H
X-Robots-Tag:noindex
X-PUBLISHED-TTL:PT1H
BEGIN:VTIMEZONE
TZID:America/New_York
BEGIN:DAYLIGHT
TZOFFSETFROM:-0500
TZOFFSETTO:-0400
TZNAME:EDT
DTSTART:20250309T070000
END:DAYLIGHT
BEGIN:STANDARD
TZOFFSETFROM:-0400
TZOFFSETTO:-0500
TZNAME:EST
DTSTART:20251102T060000
END:STANDARD
BEGIN:DAYLIGHT
TZOFFSETFROM:-0500
TZOFFSETTO:-0400
TZNAME:EDT
DTSTART:20260308T070000
END:DAYLIGHT
BEGIN:STANDARD
TZOFFSETFROM:-0400
TZOFFSETTO:-0500
TZNAME:EST
DTSTART:20261101T060000
END:STANDARD
BEGIN:DAYLIGHT
TZOFFSETFROM:-0500
TZOFFSETTO:-0400
TZNAME:EDT
DTSTART:20270314T070000
END:DAYLIGHT
BEGIN:STANDARD
TZOFFSETFROM:-0400
TZOFFSETTO:-0500
TZNAME:EST
DTSTART:20271107T060000
END:STANDARD
END:VTIMEZONE
BEGIN:VEVENT
DTSTART;TZID=America/New_York:20260617T090000
DTEND;TZID=America/New_York:20260617T120000
DTSTAMP:20260421T210025
CREATED:20260421T172325Z
LAST-MODIFIED:20260421T172325Z
UID:10000098-1781686800-1781697600@unitedasphalt.com
SUMMARY:QXO - Harrisburg\, Pennsylvania Vendor Day - June 2026
DESCRIPTION:Join our Mid-Atlantic Regional Manager\, Dave Lorady this Harrisburg Pennsylvania Roofing Demo at QXO’s Harrisburg\, Pennsylvania Branch for a Vendor Day! \nWe’ll be focusing on differences & benefits of the following:\n\nAcrylic Roof Coatings\nSilicone Roof Coatings\nThermoplastic (SEBS) Roof Coatings\n\nPlan to stop by!
URL:https://unitedasphalt.com/event/qxo-harrisburg-pennsylvania-vendor-day-june-2026/
LOCATION:QXO\, 7901 Allentown Blvd.\, Harrisburg\, Pennsylvania\, 17112\, United States
ATTACH;FMTTYPE=image/png:https://unitedasphalt.com/wp-content/uploads/2025/06/QXO-Distributor-Logo.png
GEO:40.3366367;-76.7189857
X-APPLE-STRUCTURED-LOCATION;VALUE=URI;X-ADDRESS=QXO 7901 Allentown Blvd. Harrisburg Pennsylvania 17112 United States;X-APPLE-RADIUS=500;X-TITLE=7901 Allentown Blvd.:geo:-76.7189857,40.3366367
END:VEVENT
END:VCALENDAR