BEGIN:VCALENDAR
VERSION:2.0
PRODID:-//United Asphalt Company - ECPv6.15.17//NONSGML v1.0//EN
CALSCALE:GREGORIAN
METHOD:PUBLISH
X-ORIGINAL-URL:https://unitedasphalt.com
X-WR-CALDESC:Events for United Asphalt Company
REFRESH-INTERVAL;VALUE=DURATION:PT1H
X-Robots-Tag:noindex
X-PUBLISHED-TTL:PT1H
BEGIN:VTIMEZONE
TZID:America/New_York
BEGIN:DAYLIGHT
TZOFFSETFROM:-0500
TZOFFSETTO:-0400
TZNAME:EDT
DTSTART:20230312T070000
END:DAYLIGHT
BEGIN:STANDARD
TZOFFSETFROM:-0400
TZOFFSETTO:-0500
TZNAME:EST
DTSTART:20231105T060000
END:STANDARD
BEGIN:DAYLIGHT
TZOFFSETFROM:-0500
TZOFFSETTO:-0400
TZNAME:EDT
DTSTART:20240310T070000
END:DAYLIGHT
BEGIN:STANDARD
TZOFFSETFROM:-0400
TZOFFSETTO:-0500
TZNAME:EST
DTSTART:20241103T060000
END:STANDARD
BEGIN:DAYLIGHT
TZOFFSETFROM:-0500
TZOFFSETTO:-0400
TZNAME:EDT
DTSTART:20250309T070000
END:DAYLIGHT
BEGIN:STANDARD
TZOFFSETFROM:-0400
TZOFFSETTO:-0500
TZNAME:EST
DTSTART:20251102T060000
END:STANDARD
END:VTIMEZONE
BEGIN:VEVENT
DTSTART;TZID=America/New_York:20240206T110000
DTEND;TZID=America/New_York:20240208T150000
DTSTAMP:20260421T124800
CREATED:20240109T194057Z
LAST-MODIFIED:20240109T194136Z
UID:10000032-1707217200-1707404400@unitedasphalt.com
SUMMARY:International Roofing Expo (IRE) 2024
DESCRIPTION:The International Roofing Expo (IRE) is the largest roofing and exteriors event in North America. Each year residential and commercial professionals come together to meet suppliers\, discover new products\, network with the global industry and improve how they run their businesses.
URL:https://unitedasphalt.com/event/ire-2024/
LOCATION:Las Vegas Convention Center\, Central Hall\, 3150 Paradise Rd\, Las Vegas\, NV\, 89109\, United States
GEO:36.1294618;-115.1544356
X-APPLE-STRUCTURED-LOCATION;VALUE=URI;X-ADDRESS=Las Vegas Convention Center Central Hall 3150 Paradise Rd Las Vegas NV 89109 United States;X-APPLE-RADIUS=500;X-TITLE=Central Hall\, 3150 Paradise Rd:geo:-115.1544356,36.1294618
END:VEVENT
BEGIN:VEVENT
DTSTART;TZID=America/New_York:20240213T130000
DTEND;TZID=America/New_York:20240213T190000
DTSTAMP:20260421T124800
CREATED:20240109T200609Z
LAST-MODIFIED:20240314T155709Z
UID:10000035-1707829200-1707850800@unitedasphalt.com
SUMMARY:ABCs of Success Atlantic City 2024
DESCRIPTION:
URL:https://unitedasphalt.com/event/abcs-of-success-atlantic-city-2024/
LOCATION:Harrah’s Resort Atlantic City\, 777 Harrah's Blvd.\, Atlantic City\, NJ\, 08401\, United States
ATTACH;FMTTYPE=image/jpeg:https://unitedasphalt.com/wp-content/uploads/2022/11/ABC-Supply-Co-Inc-Distributor-Logo.jpg
GEO:39.3845487;-74.4296631
X-APPLE-STRUCTURED-LOCATION;VALUE=URI;X-ADDRESS=Harrah’s Resort Atlantic City 777 Harrah's Blvd. Atlantic City NJ 08401 United States;X-APPLE-RADIUS=500;X-TITLE=777 Harrah's Blvd.:geo:-74.4296631,39.3845487
END:VEVENT
BEGIN:VEVENT
DTSTART;TZID=America/New_York:20240215T130000
DTEND;TZID=America/New_York:20240215T170000
DTSTAMP:20260421T124800
CREATED:20240109T203516Z
LAST-MODIFIED:20240109T210910Z
UID:10000036-1708002000-1708016400@unitedasphalt.com
SUMMARY:College of Knowledge Connecticut 2024
DESCRIPTION:
URL:https://unitedasphalt.com/event/college-of-knowledge-connecticut-2024/
LOCATION:Foxwoods Resort Casino – Rainmaker Expo Center\, 350 Trolley Line Blvd.\, Mashantucket\, CT\, 06338\, United States
ATTACH;FMTTYPE=image/jpeg:https://unitedasphalt.com/wp-content/uploads/2022/11/ABC-Supply-Co-Inc-Distributor-Logo.jpg
GEO:41.4733358;-71.9600034
X-APPLE-STRUCTURED-LOCATION;VALUE=URI;X-ADDRESS=Foxwoods Resort Casino – Rainmaker Expo Center 350 Trolley Line Blvd. Mashantucket CT 06338 United States;X-APPLE-RADIUS=500;X-TITLE=350 Trolley Line Blvd.:geo:-71.9600034,41.4733358
END:VEVENT
BEGIN:VEVENT
DTSTART;TZID=America/New_York:20240229T130000
DTEND;TZID=America/New_York:20240229T200000
DTSTAMP:20260421T124800
CREATED:20240216T142426Z
LAST-MODIFIED:20240229T183203Z
UID:10000038-1709211600-1709236800@unitedasphalt.com
SUMMARY:SRS 2024 Trade Show
DESCRIPTION:Join us at SRS Distribution’s 2024 Trade Show at Wind Creek Event Center in Bethlehem\, PA! We’ll be sharing some of our most popular roof repair and restoration products! Your local rep\, Dave Lorady as well as our Technical Sales Director\, Scott Caprio and company President Steve Umosella will be onsite to demonstrate product capabilities and answer any questions that may come up. Have a particular project your are considering coating? Come by and learn about what solutions may be a good fit for you!
URL:https://unitedasphalt.com/event/srs-2024-trade-show/
LOCATION:Wind Creek Casino & Resort\, 77 Wind Creek Blvd\, Bethlehem\, PA\, 18015\, United States
ATTACH;FMTTYPE=image/png:https://unitedasphalt.com/wp-content/uploads/2023/09/SRS-Distribution-Distributor-Logo.png
GEO:40.6147707;-75.3597095
X-APPLE-STRUCTURED-LOCATION;VALUE=URI;X-ADDRESS=Wind Creek Casino & Resort 77 Wind Creek Blvd Bethlehem PA 18015 United States;X-APPLE-RADIUS=500;X-TITLE=77 Wind Creek Blvd:geo:-75.3597095,40.6147707
END:VEVENT
END:VCALENDAR