BEGIN:VCALENDAR
VERSION:2.0
PRODID:-//United Asphalt Company - ECPv6.15.17//NONSGML v1.0//EN
CALSCALE:GREGORIAN
METHOD:PUBLISH
X-WR-CALNAME:United Asphalt Company
X-ORIGINAL-URL:https://unitedasphalt.com
X-WR-CALDESC:Events for United Asphalt Company
REFRESH-INTERVAL;VALUE=DURATION:PT1H
X-Robots-Tag:noindex
X-PUBLISHED-TTL:PT1H
BEGIN:VTIMEZONE
TZID:America/New_York
BEGIN:DAYLIGHT
TZOFFSETFROM:-0500
TZOFFSETTO:-0400
TZNAME:EDT
DTSTART:20230312T070000
END:DAYLIGHT
BEGIN:STANDARD
TZOFFSETFROM:-0400
TZOFFSETTO:-0500
TZNAME:EST
DTSTART:20231105T060000
END:STANDARD
BEGIN:DAYLIGHT
TZOFFSETFROM:-0500
TZOFFSETTO:-0400
TZNAME:EDT
DTSTART:20240310T070000
END:DAYLIGHT
BEGIN:STANDARD
TZOFFSETFROM:-0400
TZOFFSETTO:-0500
TZNAME:EST
DTSTART:20241103T060000
END:STANDARD
BEGIN:DAYLIGHT
TZOFFSETFROM:-0500
TZOFFSETTO:-0400
TZNAME:EDT
DTSTART:20250309T070000
END:DAYLIGHT
BEGIN:STANDARD
TZOFFSETFROM:-0400
TZOFFSETTO:-0500
TZNAME:EST
DTSTART:20251102T060000
END:STANDARD
END:VTIMEZONE
BEGIN:VEVENT
DTSTART;TZID=America/New_York:20240507T110000
DTEND;TZID=America/New_York:20240507T130000
DTSTAMP:20260421T095501
CREATED:20240411T153736Z
LAST-MODIFIED:20240411T153736Z
UID:10000051-1715079600-1715086800@unitedasphalt.com
SUMMARY:Kohl Building Products Pittston\, PA April 2024 Demo Day
DESCRIPTION:Join us at Kohl Building Products’s Pittston location as we demonstrate some of our most popular roof repair and restoration products! Your local rep\, Dave Lorady\, will be onsite\, (with lunch!) to demonstrate product capabilities and answer any questions that may come up. Have a particular project your are considering coating? Come by and learn about what solutions may be a good fit for you!
URL:https://unitedasphalt.com/event/kohl-building-products-pittston-pa-april-2024-demo-day/
LOCATION:Kohl Building Products Pittston\, PA\, 322 Laurel Street\, Pittston\, PA\, 18640\, United States
ATTACH;FMTTYPE=image/png:https://unitedasphalt.com/wp-content/uploads/2023/08/Kohl-Building-Products-Distributor-Logo.png
GEO:41.3197026;-75.777408
X-APPLE-STRUCTURED-LOCATION;VALUE=URI;X-ADDRESS=Kohl Building Products Pittston PA 322 Laurel Street Pittston PA 18640 United States;X-APPLE-RADIUS=500;X-TITLE=322 Laurel Street:geo:-75.777408,41.3197026
END:VEVENT
BEGIN:VEVENT
DTSTART;TZID=America/New_York:20240514T090000
DTEND;TZID=America/New_York:20240514T130000
DTSTAMP:20260421T095501
CREATED:20240510T131804Z
LAST-MODIFIED:20240510T131804Z
UID:10000052-1715677200-1715691600@unitedasphalt.com
SUMMARY:ABC Supply Co Hicksville NY Chopper Tour Open House May 2024
DESCRIPTION:Join us at ABC Supply Co’s Hicksville\, NY location on Tuesday May 14th from 9am-1pm\, meet with over 15 vendors\, get some delicious food from Right Coast Taqueria Food Truck (see the menu!) and take a picture with the ABC Chopper. Special offers for the day and raffles. \nYour local rep\, Dave Maimone\, will be onsite to demonstrate product capabilities and answer any questions that may come up. Have a particular project your are considering coating? Come by and learn about what solutions may be a good fit for you! Be sure to register on this page to let us know to expect you!
URL:https://unitedasphalt.com/event/abc-supply-co-hicksville-ny-chopper-tour-open-house-may-2024/
LOCATION:ABC Supply Co – Hicksville\, NY\, 55 Ludy Street\, Hicksville\, NY\, 11801\, United States
ATTACH;FMTTYPE=image/png:https://unitedasphalt.com/wp-content/uploads/2021/08/ABC-Supply-Co-Logo.png
GEO:40.7582938;-73.5100601
X-APPLE-STRUCTURED-LOCATION;VALUE=URI;X-ADDRESS=ABC Supply Co – Hicksville NY 55 Ludy Street Hicksville NY 11801 United States;X-APPLE-RADIUS=500;X-TITLE=55 Ludy Street:geo:-73.5100601,40.7582938
END:VEVENT
BEGIN:VEVENT
DTSTART;TZID=America/New_York:20240530T100000
DTEND;TZID=America/New_York:20240530T120000
DTSTAMP:20260421T095501
CREATED:20240318T143649Z
LAST-MODIFIED:20240318T143649Z
UID:10000048-1717063200-1717070400@unitedasphalt.com
SUMMARY:ABC Supply Co York PA Demo Day May 2024
DESCRIPTION:Join us at ABC Supply Co’s York\, PA location as we demonstrate some of our most popular roof repair and restoration products! Your local rep\, Dave Lorady\, will be onsite to demonstrate product capabilities and answer any questions that may come up. Have a particular project your are considering coating? Come by and learn about what solutions may be a good fit for you! Be sure to register on this page to let us know to expect you!
URL:https://unitedasphalt.com/event/abc-supply-co-demo-day-may-2024-york-pa/
LOCATION:ABC Supply Co – York\, PA\, 2608 Keyway Drive\, York\, PA\, 17402\, United States
ATTACH;FMTTYPE=image/png:https://unitedasphalt.com/wp-content/uploads/2021/08/ABC-Supply-Co-Logo.png
GEO:39.9078692;-76.7018277
X-APPLE-STRUCTURED-LOCATION;VALUE=URI;X-ADDRESS=ABC Supply Co – York PA 2608 Keyway Drive York PA 17402 United States;X-APPLE-RADIUS=500;X-TITLE=2608 Keyway Drive:geo:-76.7018277,39.9078692
END:VEVENT
BEGIN:VEVENT
DTSTART;TZID=America/New_York:20240531T080000
DTEND;TZID=America/New_York:20240531T103000
DTSTAMP:20260421T095501
CREATED:20240524T150653Z
LAST-MODIFIED:20240524T154831Z
UID:10000055-1717142400-1717151400@unitedasphalt.com
SUMMARY:Eastern Michigan Distributors - Southfield
DESCRIPTION:Come by\, grab a donut and coffee and join us for a Demo Day at Eastern Michigan Distributors‘ Southfield\, MI location as we demonstrate some of our most popular roof repair and restoration products! Your local rep\, Ed Sueta\, will be onsite to demonstrate product capabilities and answer any questions that may come up. Have a particular project your are considering coating? Come by and learn about what solutions may be a good fit for you!
URL:https://unitedasphalt.com/event/eastern-michigan-distributors-demo-day-june-2024-southfield/
LOCATION:Eastern Michigan Distributors Southfield\, MI\, 19240 W. Eight Mile Road\, Southfield\, MI\, 48075\, United States
ATTACH;FMTTYPE=image/png:https://unitedasphalt.com/wp-content/uploads/2023/09/Eastern-Michigan-Distributors-Distributor-Logo.png
GEO:42.4421101;-83.3216648
X-APPLE-STRUCTURED-LOCATION;VALUE=URI;X-ADDRESS=Eastern Michigan Distributors Southfield MI 19240 W. Eight Mile Road Southfield MI 48075 United States;X-APPLE-RADIUS=500;X-TITLE=19240 W. Eight Mile Road:geo:-83.3216648,42.4421101
END:VEVENT
END:VCALENDAR