BEGIN:VCALENDAR
VERSION:2.0
PRODID:-//United Asphalt Company - ECPv6.15.17//NONSGML v1.0//EN
CALSCALE:GREGORIAN
METHOD:PUBLISH
X-ORIGINAL-URL:https://unitedasphalt.com
X-WR-CALDESC:Events for United Asphalt Company
REFRESH-INTERVAL;VALUE=DURATION:PT1H
X-Robots-Tag:noindex
X-PUBLISHED-TTL:PT1H
BEGIN:VTIMEZONE
TZID:America/New_York
BEGIN:DAYLIGHT
TZOFFSETFROM:-0500
TZOFFSETTO:-0400
TZNAME:EDT
DTSTART:20230312T070000
END:DAYLIGHT
BEGIN:STANDARD
TZOFFSETFROM:-0400
TZOFFSETTO:-0500
TZNAME:EST
DTSTART:20231105T060000
END:STANDARD
BEGIN:DAYLIGHT
TZOFFSETFROM:-0500
TZOFFSETTO:-0400
TZNAME:EDT
DTSTART:20240310T070000
END:DAYLIGHT
BEGIN:STANDARD
TZOFFSETFROM:-0400
TZOFFSETTO:-0500
TZNAME:EST
DTSTART:20241103T060000
END:STANDARD
BEGIN:DAYLIGHT
TZOFFSETFROM:-0500
TZOFFSETTO:-0400
TZNAME:EDT
DTSTART:20250309T070000
END:DAYLIGHT
BEGIN:STANDARD
TZOFFSETFROM:-0400
TZOFFSETTO:-0500
TZNAME:EST
DTSTART:20251102T060000
END:STANDARD
END:VTIMEZONE
BEGIN:VEVENT
DTSTART;TZID=America/New_York:20240607T080000
DTEND;TZID=America/New_York:20240607T103000
DTSTAMP:20260421T083334
CREATED:20240524T154836Z
LAST-MODIFIED:20240524T155123Z
UID:10000056-1717747200-1717756200@unitedasphalt.com
SUMMARY:Spartan Building Supplies - Warren
DESCRIPTION:Come by\, grab a donut and coffee and join us for a Demo Day at Spartan Building Supplies\, Inc.‘s Warren\, MI location as we demonstrate some of our most popular roof repair and restoration products! Your local rep\, Ed Sueta\, will be onsite to demonstrate product capabilities and answer any questions that may come up. Have a particular project your are considering coating? Come by and learn about what solutions may be a good fit for you!
URL:https://unitedasphalt.com/event/spartan-building-supplies-demo-day-june-2024-warren/
LOCATION:Spartan Building Products – Warren\, Schoenherr Road\, Warren\, MI\, 48089\, United States
GEO:42.4553848;-82.9855612
X-APPLE-STRUCTURED-LOCATION;VALUE=URI;X-ADDRESS=Spartan Building Products – Warren Schoenherr Road Warren MI 48089 United States;X-APPLE-RADIUS=500;X-TITLE=Schoenherr Road:geo:-82.9855612,42.4553848
END:VEVENT
BEGIN:VEVENT
DTSTART;TZID=America/New_York:20240619T080000
DTEND;TZID=America/New_York:20240619T120000
DTSTAMP:20260421T083334
CREATED:20240523T154924Z
LAST-MODIFIED:20240618T130446Z
UID:10000054-1718784000-1718798400@unitedasphalt.com
SUMMARY:Armour Proof Coatings Academy – Conshohocken
DESCRIPTION:Some Topics We Will Discuss:\n\nArmour Proof Coatings Product Catalog\nWhat Types of Roofs Can Be Restored\nSigns of Trouble on A Roof\nChoosing A System\nHow to Apply A Complete System\nCoverage Rates\nBenefits of Becoming An Approved Applicator
URL:https://unitedasphalt.com/event/armour-proof-coatings-june-2024-conshohocken-training/
LOCATION:Plymouth Fire Company\, 1323 Colwell Lane\, Conshohocken\, PA\, 19428\, United States
CATEGORIES:Armour Proof Coatings Training Event
ATTACH;FMTTYPE=image/png:https://unitedasphalt.com/wp-content/uploads/2024/05/Armour-Proof-Coatings-APC-Logo-2024.png
GEO:40.0897119;-75.3023309
X-APPLE-STRUCTURED-LOCATION;VALUE=URI;X-ADDRESS=Plymouth Fire Company 1323 Colwell Lane Conshohocken PA 19428 United States;X-APPLE-RADIUS=500;X-TITLE=1323 Colwell Lane:geo:-75.3023309,40.0897119
END:VEVENT
BEGIN:VEVENT
DTSTART;TZID=America/New_York:20240620T150000
DTEND;TZID=America/New_York:20240620T180000
DTSTAMP:20260421T083334
CREATED:20240523T154415Z
LAST-MODIFIED:20240523T154415Z
UID:10000053-1718895600-1718906400@unitedasphalt.com
SUMMARY:ABC Supply Co Bethlehem Trade Show June 2024
DESCRIPTION:Join us at ABC Supply Co’s Bethlehem\, PA location Trade Show as we demonstrate some of our most popular roof repair and restoration products! Your local rep\, Dave Lorady\, will be onsite to demonstrate product capabilities and answer any questions that may come up. Have a particular project your are considering coating? Come by and learn about what solutions may be a good fit for you! Be sure to register on this page to let us know to expect you!
URL:https://unitedasphalt.com/event/abc-supply-co-bethlehem-pa-trade-show-june-2024/
LOCATION:ABC Supply Co – Bethlehem\, PA\, Avenue A\, Bethlehem\, PA\, 18017\, United States
ATTACH;FMTTYPE=image/png:https://unitedasphalt.com/wp-content/uploads/2021/08/ABC-Supply-Co-Logo.png
GEO:40.6492287;-75.4243958
X-APPLE-STRUCTURED-LOCATION;VALUE=URI;X-ADDRESS=ABC Supply Co – Bethlehem PA Avenue A Bethlehem PA 18017 United States;X-APPLE-RADIUS=500;X-TITLE=Avenue A:geo:-75.4243958,40.6492287
END:VEVENT
END:VCALENDAR